BEGIN:VCALENDAR
VERSION:2.0
PRODID:-//Faith Presbyterian - ECPv6.15.20//NONSGML v1.0//EN
CALSCALE:GREGORIAN
METHOD:PUBLISH
X-WR-CALNAME:Faith Presbyterian
X-ORIGINAL-URL:https://faith-pca.org
X-WR-CALDESC:Events for Faith Presbyterian
REFRESH-INTERVAL;VALUE=DURATION:PT1H
X-Robots-Tag:noindex
X-PUBLISHED-TTL:PT1H
BEGIN:VTIMEZONE
TZID:America/New_York
BEGIN:DAYLIGHT
TZOFFSETFROM:-0500
TZOFFSETTO:-0400
TZNAME:EDT
DTSTART:20250309T070000
END:DAYLIGHT
BEGIN:STANDARD
TZOFFSETFROM:-0400
TZOFFSETTO:-0500
TZNAME:EST
DTSTART:20251102T060000
END:STANDARD
BEGIN:DAYLIGHT
TZOFFSETFROM:-0500
TZOFFSETTO:-0400
TZNAME:EDT
DTSTART:20260308T070000
END:DAYLIGHT
BEGIN:STANDARD
TZOFFSETFROM:-0400
TZOFFSETTO:-0500
TZNAME:EST
DTSTART:20261101T060000
END:STANDARD
BEGIN:DAYLIGHT
TZOFFSETFROM:-0500
TZOFFSETTO:-0400
TZNAME:EDT
DTSTART:20270314T070000
END:DAYLIGHT
BEGIN:STANDARD
TZOFFSETFROM:-0400
TZOFFSETTO:-0500
TZNAME:EST
DTSTART:20271107T060000
END:STANDARD
END:VTIMEZONE
BEGIN:VEVENT
DTSTART;TZID=America/New_York:20260329T170000
DTEND;TZID=America/New_York:20260329T190000
DTSTAMP:20260423T044030
CREATED:20260129T192039Z
LAST-MODIFIED:20260319T185627Z
UID:10000128-1774803600-1774810800@faith-pca.org
SUMMARY:Sanctuary Dedication Service
DESCRIPTION:Please start making plans to join us on Sunday\, March 29 at 5 p.m. for our Sanctuary Dedication Service\, which happens to be Palm Sunday. Our first Sunday morning worship service in the new sanctuary will be the following week on Easter Sunday! \nThis service will represent the culmination of over 20 years of God’s faithfulness\, prayer\, and planning for our campus\, so it’ll truly be a celebration for the ages! We hope to see you there.
URL:https://faith-pca.org/event/sanctuary-dedication-service/
CATEGORIES:Churchwide
ATTACH;FMTTYPE=image/png:https://faith-pca.org/wp-content/uploads/2026/01/Better-scaled.png
END:VEVENT
END:VCALENDAR